BEGIN:VCALENDAR
VERSION:2.0
PRODID:-//Alberta Recreation &amp; Parks Association - ECPv6.15.18//NONSGML v1.0//EN
CALSCALE:GREGORIAN
METHOD:PUBLISH
X-WR-CALNAME:Alberta Recreation &amp; Parks Association
X-ORIGINAL-URL:https://arpaonline.ca
X-WR-CALDESC:Events for Alberta Recreation &amp; Parks Association
REFRESH-INTERVAL;VALUE=DURATION:PT1H
X-Robots-Tag:noindex
X-PUBLISHED-TTL:PT1H
BEGIN:VTIMEZONE
TZID:America/Edmonton
BEGIN:DAYLIGHT
TZOFFSETFROM:-0700
TZOFFSETTO:-0600
TZNAME:MDT
DTSTART:20240310T090000
END:DAYLIGHT
BEGIN:STANDARD
TZOFFSETFROM:-0600
TZOFFSETTO:-0700
TZNAME:MST
DTSTART:20241103T080000
END:STANDARD
BEGIN:DAYLIGHT
TZOFFSETFROM:-0700
TZOFFSETTO:-0600
TZNAME:MDT
DTSTART:20250309T090000
END:DAYLIGHT
BEGIN:STANDARD
TZOFFSETFROM:-0600
TZOFFSETTO:-0700
TZNAME:MST
DTSTART:20251102T080000
END:STANDARD
BEGIN:DAYLIGHT
TZOFFSETFROM:-0700
TZOFFSETTO:-0600
TZNAME:MDT
DTSTART:20260308T090000
END:DAYLIGHT
BEGIN:STANDARD
TZOFFSETFROM:-0600
TZOFFSETTO:-0700
TZNAME:MST
DTSTART:20261101T080000
END:STANDARD
END:VTIMEZONE
BEGIN:VEVENT
DTSTART;TZID=America/Edmonton:20250910T120000
DTEND;TZID=America/Edmonton:20250910T130000
DTSTAMP:20260420T064344
CREATED:20250822T161456Z
LAST-MODIFIED:20250822T162224Z
UID:9487-1757505600-1757509200@arpaonline.ca
SUMMARY:Grandmothers' Circle: Voices Across Generations
DESCRIPTION:Join us for our next Grandmothers’ Circle: Voices Across Generations on Wednesday as we open the page to a new chapter of the Grandmothers’ Circles\, one that continues to honour the wisdom of Indigenous Elders while making space for the voices of younger generations. These intergenerational Circles will explore wellness\, culture\, and community through shared teachings\, stories\, and reflections. \n\n\n\nThank you to Alberta Blue Cross for sponsoring the Grandmothers’ Circle! \n\n\n\n\nRegister Here!
URL:https://arpaonline.ca/event/grandmothers-circle-voices-across-generations/
ATTACH;FMTTYPE=image/png:https://arpaonline.ca/wp-content/uploads/2025/08/2025-Grandmothers-Circle-Banner-1.png
END:VEVENT
END:VCALENDAR