BEGIN:VCALENDAR
VERSION:2.0
PRODID:-//Alberta Recreation &amp; Parks Association - ECPv6.15.18//NONSGML v1.0//EN
CALSCALE:GREGORIAN
METHOD:PUBLISH
X-ORIGINAL-URL:https://arpaonline.ca
X-WR-CALDESC:Events for Alberta Recreation &amp; Parks Association
REFRESH-INTERVAL;VALUE=DURATION:PT1H
X-Robots-Tag:noindex
X-PUBLISHED-TTL:PT1H
BEGIN:VTIMEZONE
TZID:America/Edmonton
BEGIN:DAYLIGHT
TZOFFSETFROM:-0700
TZOFFSETTO:-0600
TZNAME:MDT
DTSTART:20250309T090000
END:DAYLIGHT
BEGIN:STANDARD
TZOFFSETFROM:-0600
TZOFFSETTO:-0700
TZNAME:MST
DTSTART:20251102T080000
END:STANDARD
BEGIN:DAYLIGHT
TZOFFSETFROM:-0700
TZOFFSETTO:-0600
TZNAME:MDT
DTSTART:20260308T090000
END:DAYLIGHT
BEGIN:STANDARD
TZOFFSETFROM:-0600
TZOFFSETTO:-0700
TZNAME:MST
DTSTART:20261101T080000
END:STANDARD
BEGIN:DAYLIGHT
TZOFFSETFROM:-0700
TZOFFSETTO:-0600
TZNAME:MDT
DTSTART:20270314T090000
END:DAYLIGHT
BEGIN:STANDARD
TZOFFSETFROM:-0600
TZOFFSETTO:-0700
TZNAME:MST
DTSTART:20271107T080000
END:STANDARD
END:VTIMEZONE
BEGIN:VEVENT
DTSTART;TZID=America/Edmonton:20260609T163000
DTEND;TZID=America/Edmonton:20260609T163000
DTSTAMP:20260421T155754
CREATED:20260421T171441Z
LAST-MODIFIED:20260421T195938Z
UID:10000049-1781022600-1781022600@arpaonline.ca
SUMMARY:ARPA 75th Anniversary Celebration - Red Deer
DESCRIPTION:Come celebrate 75 years of ARPA in Red Deer! Enjoy catching up and reconnecting with friends\, as well as celebrating our legacy and continued support of recreation and parks in Alberta!  \n\n\n\n*This event is not being run by ARPA\, but please fill out the RSVP form and we will pass along information to the event organizers. This event is designed to be a ‘come and go as you please’ event. \n\n\n\n\nRSVP Here!
URL:https://arpaonline.ca/event/arpa-75th-anniversary-celebration-red-deer/
LOCATION:Bo’s Bar and Grill\, 2310 50 Ave\, Red Deer\, Alberta\, T4R 1C5\, Canada
ATTACH;FMTTYPE=image/png:https://arpaonline.ca/wp-content/uploads/2026/03/75th-Anniversary-banner_Jan-REC-1.png
END:VEVENT
END:VCALENDAR